BEGIN:VCALENDAR
VERSION:2.0
BEGIN:VEVENT
UID:DEDD41EA-D403-4A35-BC2E-7C560C4C830F
DTSTART:20230302T160000Z
DTEND:20230302T170000Z
SUMMARY:Kids Lego Club at Mesquite North Branch Library
DESCRIPTION:The Kids Lego club meets on the first Thursday of the month at
  the North Branch Library. Join us to build and create with Lego's on Febr
 uary 2\, March 2\, April 6 & May 4. For ages 12 and under. For more inform
 ation\, please call the North Branch Library at 972-681-0465.\nMesquite No
 rth Branch Library\n2600 Oates Drive\nMesquite\, TX 75150 United States\n
LOCATION:2600 Oates Drive\, Mesquite\, TX 75150
URL:http://mesquite.bubblelife.com/community/mesquite_calendar/library/3567
 2224/key/3511526810/Kids_Lego_Club_at_Mesquite_North_Branch_Library
CREATED:20230213T224610Z
LAST-MODIFIED:20230213T224610Z
DTSTAMP:20260424T072254Z
CLASS:PUBLIC
STATUS:CONFIRMED
TRANSP:TRANSPARENT
SEQUENCE:1
END:VEVENT
END:VCALENDAR
